Workbook

Sheet 경기예고(조식)
A1: 12 월 식 단 (조식)
A2: 알레르기 정보:(1)난류(2)우유(3)메밀(4)땅콩(5)대두(6)밀(7)고등어(8)게(9)새우
A3: (10)돼지고기(11)복숭아(12)토마토(13)아황산염(14)호두(15)닭(16)소고기(17)오징어(18)조개류(19)잣
E4: 12월1일
E6: 북어국1.5.6.13
E7: 소불고기5.6.13.16
E8: 연근흑임자샐러드1.5.6.12.13
E9: 포기김치9.13
E10: 엔요2.13
A12: 12월4일 | B12: 12월5일 | C12: 12월6일 | D12: 12월7일 | E12: 12월8일
E13: 콩나물밥5.6.13
A14: 오뎅탕5.6.13 | B14: 동태알찌개5.6.13 | C14: 조랭이떡국1.5.6.13.16 | D14: 게살스프1.5.6.8.13 | E14: 시금치고추장국5.6.13
A15: 돈육김치찜5.6.9.10.13 | B15: 고구마돈까스1.5.6.10.12.13 | C15: 안동찜닭5.6.13.15 | D15: 등갈비폭찹5.6.10.12.13 | E15: 한식잡채5.6.10.13
A16: 두부구이&양념장5.6.13 | B16: 해물완자전1.5.6.9.13.17.18 | C16: 고추장멸치볶음5.6.13 | D16: 죽봉어묵볶음5.6.13 | E16: 꽃빵튀김5.6.13
A17: 알타리김치9.13 | B17: 포기김치9.13 | C17: 포기김치9.13 | D17: 콩조림5.6.13 | E17: 포기김치9.13
A18: 썬업과일야채샐러드13 | B18: 시리얼바1.2.4.5.6.13.14 | C18: 과일 | D18: 포기김치9.13 | E18: 야쿠르트2.13
A20: 12월11일 | B20: 12월12일 | C20: 12월13일 | D20: 12월14일 | E20: 12월15일
D21: 김치볶음밥5.6.9.13.17
A22: 근대된장국5.6.13 | B22: 미역국5.6.13 | C22: 우동장국5.6.13 | D22: 콩나물국5.6.13 | E22: 소고기무국5.6.13.16
A23: 너비아니l&새싹채소5.6.10.13 | B23: 닭강정5.6.12.13.15 | C23: 함박스테이크&치즈2.5.6.10.12.13.16 | D23: 피자계란오믈렛1.2.5.12.13 | E23: 꽁치조림5.6.9.13
A24: 스팸감자볶음5.6.10.13 | B24: 무생채5.6.13 | C24: 구운동글양파&파인애플5.13 | D24: 핫바5.6.10.13.17 | E24: 소떡야채볶음5.6.10.12.13
A25: 포기김치9.13 | B25: 포기김치9.13 | C25: 시리얼견과류샐러드1.2.4.5.6.12.13.14 | D25: 깍두기9.13 | E25: 오이도라지무침5.6.13
A26: 크로와상1.2.5.6.13 | B26: 요플레2.13 | C26: 포기김치9.13 | D26: 바나나우유2.13 | E26: 깍두기9.13
E27: 과일주스13
A28: 12월18일 | B28: 12월19일 | C28: 12월20일 | D28: 12월21일 | E28: 12월22일
A30: 맑은순두부국5.6.9.13.18 | B30: 양송이스프2.5.6.13 | C30: 청양된장찌개5.6.13 | D30: 호박죽 | E30: 물만두국1.5.6.10.13.16
A31: 오삼불고기5.6.10.13.17 | B31: 감자에그샌드위치1.2.5.6.10.13 | C31: 로제소스닭조림2.5.6.12.13.15 | D31: 돼지갈비찜5.6.10.13 | E31: 셀프치킨또띠아1.5.6.12.13.15
A32: 호떡군만두5.6.10.13 | B32: 깐풍탕수5.6.12.13.15 | C32: 옥수수콘버터볶음1.2.5.6.13 | D32: 고구마맛탕5.6.13 | E32: (텐더/파프리카/오이/단무지/머스S)
A33: 돌나물*초장5.6.13 | B33: 수제소시지구이5.10.12.13 | C33: 포기김치9.13 | D33: 포기김치9.13 | E33: 포기김치9.13
A34: 깍두기9.13 | B34: 시리얼&우유2.6.13 | C34: 과일 | D34: 쿠키1.2.5.6.13 | E34: 비요뜨2.13
A36: 12월25일 | B36: 12월26일 | C36: 12월27일 | D36: 12월28일 | E36: 12월29일
B38: 유부된장국5.6.13 | C38: 마제덮밥1.5.6.10.13 | D38: 들깨버섯국5.6.13 | E38: 감자국5.6.13
B39: 떡갈비구이5.6.10.13 | C39: 다시마무채국5.6.13 | D39: 오리주물럭5.6.13 | E39: 소고기계란장조림1.5.6.13.16
A40: 크리스마스 | B40: 마늘쫑고추장볶음5.6.13 | C40: 맛쵸킹돈강정5.6.10.12.13 | D40: 양파링&엣지감자2.5.6.13 | E40: 도시락김13
B41: 봄동나물무침5.6.13 | C41: 꼬시래기무침5.6.13 | D41: 단배추무침5.6.13 | E41: 애호박버섯볶음5.6.13
B42: 깍두기9.13 | C42: 포기김치9.13 | D42: 깍두기9.13 | E42: 포기김치9.13
B43: 초코우유2.13 | C43: 하루견과4.13.14 | E43: 과일
A44: *원산지- 소고기:국내산(육우)/수입산.돼지고기:국내산.닭고기:국내산/수입산. 오리고기:국내산/수입산.
A45: 서리태:국내산.두부(콩):수입산.주꾸미:수입산.코다리:수입산.가자미:수입산.
A46: 오징어:국내산.진미채/오징어실채:수입산.포기김치9.13:배추-국내산.고추가루-국내산.쌀:국내산
...

Sheet 경기예고(석식)
A1: 12 월 식 단 (석식)
A2: 알레르기 정보:(1)난류(2)우유(3)메밀(4)땅콩(5)대두(6)밀(7)고등어(8)게(9)새우
A3: (10)돼지고기(11)복숭아(12)토마토(13)아황산염(14)호두(15)닭(16)소고기(17)오징어(18)조개류(19)잣
E4: ='경기예고(조식)'!E4 -> 12월1일
E6: 무청시래기국5.6.13
E7: 동인동찜갈비5.6.10.13
E8: 지삼선5.6.13
E9: 실곤약무침5.6.13
E10: 포기김치9.13
E11: 과일주스13
A12: ='경기예고(조식)'!A12 -> 12월4일 | B12: ='경기예고(조식)'!B12 -> 12월5일 | C12: ='경기예고(조식)'!C12 -> 12월6일 | D12: ='경기예고(조식)'!D12 -> 12월7일 | E12: ='경기예고(조식)'!E12 -> 12월8일
A14: 브로콜리콘스프2.5.6.13 | E14: 팽이된장국5.6.13
A15: 함박스테이크5.6.10.12.13.16 | E15: 치킨마요밥1.5.6.13.15
A16: 알리오올리오파스타5.6.9.13.17.18 | B16: 비급식 | C16: 비급식 | D16: 비급식 | E16: 계란스크램블1.2.5.13
A17: 양상추샐러드1.5.6.12.13 | E17: 건새우마늘쫑볶음5.6.9.13
A18: 깍두기9.13 | E18: 포기김치9.13
A19: 과일 | E19: 요플레2.13
A20: ='경기예고(조식)'!A20 -> 12월11일 | B20: ='경기예고(조식)'!B20 -> 12월12일 | C20: ='경기예고(조식)'!C20 -> 12월13일 | D20: ='경기예고(조식)'!D20 -> 12월14일 | E20: ='경기예고(조식)'!E20 -> 12월15일
B21: 김밥볶음밥1.5.6.10.13
A22: 순두부찌개5.6.8.9.13.17.18 | B22: 유부된장국5.6.13 | C22: 짜장소스5.6.10.13 | D22: 북어채국5.6.13 | E22: 삼색옹심이만두국1.5.6.10.13.16
A23: 청양풍돈불고기5.6.10.13 | B23: 국물떡볶이5.6.13 | C23: 팔보채5.6.8.9.12.13.15.17.18 | D23: 닭봉간장조림5.6.13.15 | E23: 오리훈제볶음5.6.13
A24: 아몬드멸치볶음4.5.6.13.14 | B24: 찐순대5.6.10.13 | C24: 야채춘권5.6.13 | D24: 쫄면무침5.6.13 | E24: 쌈무13
A25: 숙주나물무침5.6.13 | B25: 포기김치9.13 | C25: 오그락지13 | D25: 감자단호박범벅1.2.4.5.6.13 | E25: 알감자조림5.6.13
A26: 깍두기9.13 | B26: 푸딩2.13 | C26: 포기김치9.13 | D26: 포기김치9.13 | E26: 포기김치9.13
A27: 유산균음료2.13 | C27: 안흥찐빵1.5.6.13 | E27: 과일
A28: ='경기예고(조식)'!A28 -> 12월18일 | B28: ='경기예고(조식)'!B28 -> 12월19일 | C28: ='경기예고(조식)'!C28 -> 12월20일 | D28: ='경기예고(조식)'!D28 -> 12월21일 | E28: ='경기예고(조식)'!E28 -> 12월22일
A30: 계란떡국1.5.6.13.16 | B30: 유부김치국5.6.9.13 | C30: 나가사키짬뽕국5.6.8.9.13.17.18 | D30: 콩가루우거지된장국5.6.13 | E30: 미역국5.6.13
A31: 치킨가라아게*머스S1.2.5.6.13.15.16 | B31: 돈육춘장볶음5.6.10.13. | C31: 마파두부5.6.10.13 | D31: 양송이떡갈비5.6.10.12.13.15.16 | E31: 삼색푸실리크림범벅2.5.6.10.13.15
A32: 우엉조림5.6.13 | B32: 오징어볼1.5.6.13.17 | C32: 명엽채볶음5.6.13 | D32: 메추리알곤약조림1.5.6.13 | E32: 생선강정5.6.13
A33: 타코샐러드1.2.5.6.12.13 | B33: 미역줄기볶음5.6.13 | C33: 오이부추무침5.6.13 | D33: 시금치나물무침5.6.13 | E33: 황도샐러드1.5.6.12.13
A34: 포기김치9.13 | B34: 깍두기9.13 | C34: 포기김치9.13 | D34: 포기김치9.13 | E34: 포기김치9.13
A35: 짜요짜요 | C35: 과일 | D35: 젤리블리2.13 | E35: 쿠키1.2.13
A36: ='경기예고(조식)'!A36 -> 12월25일 | B36: ='경기예고(조식)'!B36 -> 12월26일 | C36: ='경기예고(조식)'!C36 -> 12월27일 | D36: ='경기예고(조식)'!D36 -> 12월28일 | E36: ='경기예고(조식)'!E36 -> 12월29일
B38: 바지락무국5.6.13.18 | C38: 순살우거지탕5.6.10.13 | D38: 부대찌개5.6.9.10.13
B39: 돈육김치볶음5.6.9.10.13 | C39: 찜닭5.6.13.15 | D39: 게살두부볶음1.5.6.8.9.13
A40: 크리스마스 | B40: 허니버터감자튀김2.5.6.13 | C40: 구멍떡소떡5.6.10.12.13 | D40: 멘치까스1.5.6.12.13.15.16
B41: 콩나물무침5.6.13 | C41: 참나물생채5.6.13 | D41: 깍두기9.13
B42: 깍두기9.13 | C42: 포기김치9.13 | D42: 과일주스13
C43: 유제품2.13
A44: *원산지- 소고기:국내산(육우)/수입산.돼지고기:국내산.닭고기:국내산/수입산. 오리고기:국내산/수입산.
...
